BEGIN:VCALENDAR
VERSION:2.0
PRODID:-//AudioTheme 1.6.2
BEGIN:VEVENT
UID:https://gregbryce.com.au/?post_type=audiotheme_gig&#038;p=3293
URL:https://gregbryce.com.au/shows/solo-muswellbrook-races/
DTSTART;TZID=GMT:20250421T020000
SUMMARY:Solo Muswellbrook Races
DESCRIPTION:Solo at Muswellbrook Races 12-5pm
LOCATION:Muswellbrook Race Track
END:VEVENT
END:VCALENDAR