BEGIN:VCALENDAR
VERSION:2.0
PRODID:-//AudioTheme 1.6.2
BEGIN:VEVENT
UID:https://gregbryce.com.au/?post_type=audiotheme_gig&#038;p=1284
URL:https://gregbryce.com.au/shows/solo-gig-89/
DTSTART;TZID=GMT:20160227T083000
SUMMARY:Solo gig
DESCRIPTION:Come down to Stroud Central for a fun gig in the courtyard/ beer garden . Bear and all his mates will be there!
LOCATION:Stroud Central Hotel
END:VEVENT
END:VCALENDAR