BEGIN:VCALENDAR
VERSION:2.0
PRODID:-//AudioTheme 1.6.2
BEGIN:VEVENT
UID:https://gregbryce.com.au/?post_type=audiotheme_gig&#038;p=1283
URL:https://gregbryce.com.au/shows/solo-gig-88/
DTSTART;TZID=GMT:20160226T090000
SUMMARY:Solo gig
DESCRIPTION:Intimate acoustic gig at the Mark Hotel.
LOCATION:The Mark Hotel\, Lambton
END:VEVENT
END:VCALENDAR