BEGIN:VCALENDAR
VERSION:2.0
PRODID:-//AudioTheme 1.6.2
BEGIN:VEVENT
UID:https://gregbryce.com.au/?post_type=audiotheme_gig&#038;p=1510
URL:https://gregbryce.com.au/shows/solo-gig-185/
DTSTART;TZID=GMT:20161223T080000
SUMMARY:Solo gig 
DESCRIPTION:last gig before Christmas at Carrington 7-10.30pm.
LOCATION:Criterion Hotel\, Carrington
END:VEVENT
END:VCALENDAR