BEGIN:VCALENDAR
VERSION:2.0
PRODID:-//AudioTheme 1.6.2
BEGIN:VEVENT
UID:https://gregbryce.com.au/?post_type=audiotheme_gig&#038;p=1506
URL:https://gregbryce.com.au/shows/solo-gig-183/
DTSTART;TZID=GMT:20161216T090000
SUMMARY:Solo gig
DESCRIPTION:Solo on Darby St. at Mavericks
LOCATION:Mavericks on Darby Street
END:VEVENT
END:VCALENDAR