BEGIN:VCALENDAR
VERSION:2.0
PRODID:-//AudioTheme 1.6.2
BEGIN:VEVENT
UID:https://gregbryce.com.au/?post_type=audiotheme_gig&#038;p=1502
URL:https://gregbryce.com.au/shows/solo-gig-179/
DTSTART;TZID=GMT:20161204T030000
SUMMARY:Solo gig
DESCRIPTION:Solo at the Mezz Bar ...times to be announced
LOCATION:The Mezz Bar\, Wallsend Diggers
END:VEVENT
END:VCALENDAR