BEGIN:VCALENDAR
VERSION:2.0
PRODID:-//AudioTheme 1.6.2
BEGIN:VEVENT
UID:https://gregbryce.com.au/?post_type=audiotheme_gig&#038;p=1473
URL:https://gregbryce.com.au/shows/solo-gig-159/
DTSTART;TZID=GMT:20161111T090000
SUMMARY:Solo gig
DESCRIPTION:New venue on Darby St...solo 8-11pm
LOCATION:Mavericks on Darby Street
END:VEVENT
END:VCALENDAR