BEGIN:VCALENDAR
VERSION:2.0
PRODID:-//AudioTheme 1.6.2
BEGIN:VEVENT
UID:https://gregbryce.com.au/?post_type=audiotheme_gig&#038;p=1459
URL:https://gregbryce.com.au/shows/solo-gig-154/
DTSTART;TZID=GMT:20160924T093000
SUMMARY:Solo gig
DESCRIPTION:solo from 7.30-11pm
LOCATION:Victoria Hotel\, Hinton
END:VEVENT
END:VCALENDAR