BEGIN:VCALENDAR
VERSION:2.0
PRODID:-//AudioTheme 1.6.2
BEGIN:VEVENT
UID:https://gregbryce.com.au/?post_type=audiotheme_gig&#038;p=1452
URL:https://gregbryce.com.au/shows/solo-gig-152/
DTSTART;TZID=GMT:20161028T080000
SUMMARY:Solo gig
DESCRIPTION:7-10.30pm solo
LOCATION:Criterion Hotel\, Carrington
END:VEVENT
END:VCALENDAR