BEGIN:VCALENDAR
VERSION:2.0
PRODID:-//AudioTheme 1.6.2
BEGIN:VEVENT
UID:https://gregbryce.com.au/?post_type=audiotheme_gig&#038;p=1518
URL:https://gregbryce.com.au/shows/solo-gig-144/
DTSTART;TZID=GMT:20161119T083000
SUMMARY:Solo gig
DESCRIPTION:Fun little solo gig at Lemon Tree Passage bowl from 7.30-11pm
LOCATION:Club Lemon Tree
END:VEVENT
END:VCALENDAR