BEGIN:VCALENDAR
VERSION:2.0
PRODID:-//AudioTheme 1.6.2
BEGIN:VEVENT
UID:https://gregbryce.com.au/?post_type=audiotheme_gig&#038;p=1410
URL:https://gregbryce.com.au/shows/solo-gig-134/
DTSTART;TZID=GMT:20160819T101500
SUMMARY:Solo gig
DESCRIPTION:8.15 to 11.15
LOCATION:Cardiff RSL Club
END:VEVENT
END:VCALENDAR