BEGIN:VCALENDAR
VERSION:2.0
PRODID:-//AudioTheme 1.6.2
BEGIN:VEVENT
UID:https://gregbryce.com.au/?post_type=audiotheme_gig&#038;p=3297
URL:https://gregbryce.com.au/shows/solo-at-wollombi-tavern-2/
DTSTART;TZID=GMT:20250601T070000
SUMMARY:Solo at Wollombi Tavern
DESCRIPTION:Solo at Wollombi Tavern 5-8pm
LOCATION:Wollombi Tavern
END:VEVENT
END:VCALENDAR