BEGIN:VCALENDAR
VERSION:2.0
PRODID:-//AudioTheme 1.6.2
BEGIN:VEVENT
UID:https://www.gregbryce.com.au/?post_type=audiotheme_gig&#038;p=2358
URL:https://gregbryce.com.au/shows/solo-at-wallsend-diggers-lounge-bar-2/
DTSTART;TZID=GMT:20201114T083000
SUMMARY:Solo at Wallsend Diggers Lounge Bar
DESCRIPTION:Solo at Wallsend Diggers\, Lounge Bar from 7.30-11pm
LOCATION:Wallsend Diggers\, Lounge Bar
END:VEVENT
END:VCALENDAR