BEGIN:VCALENDAR
VERSION:2.0
PRODID:-//AudioTheme 1.6.2
BEGIN:VEVENT
UID:https://www.gregbryce.com.au/?post_type=audiotheme_gig&#038;p=2081
URL:https://gregbryce.com.au/shows/solo-at-the-kent-14/
DTSTART;TZID=GMT:20190529T120000
SUMMARY:Solo at the Kent
DESCRIPTION:Solo at the Kent 10.30pm-1am
LOCATION:Kent Hotel
END:VEVENT
END:VCALENDAR