BEGIN:VCALENDAR
VERSION:2.0
PRODID:-//AudioTheme 1.6.2
BEGIN:VEVENT
UID:https://gregbryce.com.au/?post_type=audiotheme_gig&#038;p=2740
URL:https://gregbryce.com.au/shows/solo-at-souths-leagues-club/
DTSTART;TZID=GMT:20230520T083000
SUMMARY:Solo at Souths Leagues Club
DESCRIPTION:Solo at Souths Leagues Club 6.30-10pm
LOCATION:Souths Leagues Club\, Merewether
END:VEVENT
END:VCALENDAR