BEGIN:VCALENDAR
VERSION:2.0
PRODID:-//AudioTheme 1.6.2
BEGIN:VEVENT
UID:https://gregbryce.com.au/?post_type=audiotheme_gig&#038;p=2524
URL:https://gregbryce.com.au/shows/solo-at-queens-wharf-hotel-6/
DTSTART;TZID=GMT:20211203T061500
SUMMARY:Solo at Queens Wharf Hotel
DESCRIPTION:Solo at QWH from 5.15-7.45pm
LOCATION:Queens Wharf Hotel
END:VEVENT
END:VCALENDAR