BEGIN:VCALENDAR
VERSION:2.0
PRODID:-//AudioTheme 1.6.2
BEGIN:VEVENT
UID:https://www.gregbryce.com.au/?post_type=audiotheme_gig&#038;p=2373
URL:https://gregbryce.com.au/shows/solo-at-queens-wharf-hotel-4/
DTSTART;TZID=GMT:20201204T080000
SUMMARY:Solo at Queens Wharf Hotel
DESCRIPTION:Solo at Queens Wharf Hotel from 7-10pm
LOCATION:Queens Wharf Hotel
END:VEVENT
END:VCALENDAR