BEGIN:VCALENDAR
VERSION:2.0
PRODID:-//AudioTheme 1.6.2
BEGIN:VEVENT
UID:https://gregbryce.com.au/?post_type=audiotheme_gig&#038;p=2939
URL:https://gregbryce.com.au/shows/solo-at-queens-wharf-hotel-10/
DTSTART;TZID=GMT:20231021T050000
SUMMARY:Solo at Queens Wharf Hotel
DESCRIPTION:Solo at QWH 4-7pm
LOCATION:Queens Wharf Hotel
END:VEVENT
END:VCALENDAR