BEGIN:VCALENDAR
VERSION:2.0
PRODID:-//AudioTheme 1.6.2
BEGIN:VEVENT
UID:https://gregbryce.com.au/?post_type=audiotheme_gig&#038;p=2516
URL:https://gregbryce.com.au/shows/solo-at-pippis-at-the-point-2/
DTSTART;TZID=GMT:20210709T103000
SUMMARY:Solo at Pippis at the Point
DESCRIPTION:Solo at Pippis from 8.30-11.30pm
LOCATION:Pippis at the Point\, Speers Point
END:VEVENT
END:VCALENDAR