BEGIN:VCALENDAR
VERSION:2.0
PRODID:-//AudioTheme 1.6.2
BEGIN:VEVENT
UID:https://gregbryce.com.au/?post_type=audiotheme_gig&#038;p=3048
URL:https://gregbryce.com.au/shows/solo-at-nags-head-adamstown-4/
DTSTART;TZID=GMT:20240524T100000
SUMMARY:Solo at Nags Head, Adamstown
DESCRIPTION:Solo at the Nags Head 8-11pm
LOCATION:Nags Head Hotel\, Adamstown
END:VEVENT
END:VCALENDAR