BEGIN:VCALENDAR
VERSION:2.0
PRODID:-//AudioTheme 1.6.2
BEGIN:VEVENT
UID:https://gregbryce.com.au/?post_type=audiotheme_gig&#038;p=2936
URL:https://gregbryce.com.au/shows/solo-at-nags-head-adamstown-3/
DTSTART;TZID=GMT:20231013T090000
SUMMARY:Solo at Nags Head, Adamstown
DESCRIPTION:Solo at the Nags 8-11pm
LOCATION:Nags Head Hotel\, Adamstown
END:VEVENT
END:VCALENDAR