BEGIN:VCALENDAR
VERSION:2.0
PRODID:-//AudioTheme 1.6.2
BEGIN:VEVENT
UID:https://gregbryce.com.au/?post_type=audiotheme_gig&#038;p=2992
URL:https://gregbryce.com.au/shows/solo-at-murrays-brewery-7/
DTSTART;TZID=GMT:20240303T020000
SUMMARY:Solo at Murrays Brewery
DESCRIPTION:Solo at Murray's Brewery 1-4pm
LOCATION:Murray's Brewery
END:VEVENT
END:VCALENDAR