BEGIN:VCALENDAR
VERSION:2.0
PRODID:-//AudioTheme 1.6.2
BEGIN:VEVENT
UID:https://gregbryce.com.au/?post_type=audiotheme_gig&#038;p=2513
URL:https://gregbryce.com.au/shows/solo-at-murrays-brewery-5/
DTSTART;TZID=GMT:20210703T030000
SUMMARY:Solo at Murray's Brewery
DESCRIPTION:Solo at Murray's Brewery from 1-4pm
LOCATION:Murray's Brewery
END:VEVENT
END:VCALENDAR