BEGIN:VCALENDAR
VERSION:2.0
PRODID:-//AudioTheme 1.6.2
BEGIN:VEVENT
UID:https://gregbryce.com.au/?post_type=audiotheme_gig&#038;p=3466
URL:https://gregbryce.com.au/shows/solo-at-maryland-tavern-2/
DTSTART;TZID=GMT:20260404T100000
SUMMARY:Solo at Maryland Tavern
DESCRIPTION:Solo at Maryland Tavern 9pm-12
LOCATION:Maryland Tavern
END:VEVENT
END:VCALENDAR