BEGIN:VCALENDAR
VERSION:2.0
PRODID:-//AudioTheme 1.6.2
BEGIN:VEVENT
UID:https://gregbryce.com.au/?post_type=audiotheme_gig&#038;p=3084
URL:https://gregbryce.com.au/shows/solo-at-lowlands-bowling-club/
DTSTART;TZID=GMT:20240804T050000
SUMMARY:solo at Lowlands Bowling Club
DESCRIPTION:Solo at Lowlands Bowling Club 3-6pm
LOCATION:Lowlands Bowling Club
END:VEVENT
END:VCALENDAR