BEGIN:VCALENDAR
VERSION:2.0
PRODID:-//AudioTheme 1.6.2
BEGIN:VEVENT
UID:https://www.gregbryce.com.au/?post_type=audiotheme_gig&#038;p=2378
URL:https://gregbryce.com.au/shows/solo-at-lone-star-rib-house-glendale/
DTSTART;TZID=GMT:20201119T070000
SUMMARY:Solo at Lone Star Rib House-Glendale
DESCRIPTION:Solo at Lone Star Rib House-Glendale from 6-9pm
LOCATION:Lone Star Rib House-Glendale
END:VEVENT
END:VCALENDAR