BEGIN:VCALENDAR
VERSION:2.0
PRODID:-//AudioTheme 1.6.2
BEGIN:VEVENT
UID:https://gregbryce.com.au/?post_type=audiotheme_gig&#038;p=3327
URL:https://gregbryce.com.au/shows/solo-at-kurri-bowling-club/
DTSTART;TZID=GMT:20250809T093000
SUMMARY:Solo at Kurri Bowling Club
DESCRIPTION:Solo at Kurri Bowlo 7:30-10:30pm
LOCATION:Kurri Bowling Club
END:VEVENT
END:VCALENDAR