BEGIN:VCALENDAR
VERSION:2.0
PRODID:-//AudioTheme 1.6.2
BEGIN:VEVENT
UID:https://gregbryce.com.au/?post_type=audiotheme_gig&#038;p=3318
URL:https://gregbryce.com.au/shows/solo-at-hotel-jesmond-7/
DTSTART;TZID=GMT:20250719T103000
SUMMARY:Solo at Hotel Jesmond
DESCRIPTION:Solo at Hotel Jesmond 8:30-11:30pm
LOCATION:Hotel Jesmond
END:VEVENT
END:VCALENDAR