BEGIN:VCALENDAR
VERSION:2.0
PRODID:-//AudioTheme 1.6.2
BEGIN:VEVENT
UID:https://www.gregbryce.com.au/?post_type=audiotheme_gig&#038;p=2372
URL:https://gregbryce.com.au/shows/solo-at-harrigans-18/
DTSTART;TZID=GMT:20201129T020000
SUMMARY:Solo at Harrigans
DESCRIPTION:Solo at Harrigans\, Pokolbin from 1-4pm
LOCATION:Harrigans Irish Pub\, Pokolbin
END:VEVENT
END:VCALENDAR