BEGIN:VCALENDAR
VERSION:2.0
PRODID:-//AudioTheme 1.6.2
BEGIN:VEVENT
UID:https://gregbryce.com.au/?post_type=audiotheme_gig&#038;p=3004
URL:https://gregbryce.com.au/shows/solo-at-fire-station-hotel-2/
DTSTART;TZID=GMT:20240331T063000
SUMMARY:Solo at Beresfield Bowlo
DESCRIPTION:Solo at Beresfield Bowlo 5:30-9PM  
LOCATION:Beresfield Bowling Club
END:VEVENT
END:VCALENDAR