BEGIN:VCALENDAR
VERSION:2.0
PRODID:-//AudioTheme 1.6.2
BEGIN:VEVENT
UID:https://gregbryce.com.au/?post_type=audiotheme_gig&#038;p=2551
URL:https://gregbryce.com.au/shows/solo-at-crowne-plaza-hunter-valley/
DTSTART;TZID=GMT:20220108T080000
SUMMARY:Solo at Crowne Plaza, Hunter Valley
DESCRIPTION:Solo at Crowne Plaza\, 430 Wine Country Dr. Lovedale\, Hunter Valley from 7-10pm
LOCATION:Crowne Plaza\, Hunter Valley
END:VEVENT
END:VCALENDAR