BEGIN:VCALENDAR
VERSION:2.0
PRODID:-//AudioTheme 1.6.2
BEGIN:VEVENT
UID:https://gregbryce.com.au/?post_type=audiotheme_gig&#038;p=1812
URL:https://gregbryce.com.au/shows/solo-at-criterion-pub-n-kitchen-3/
DTSTART;TZID=GMT:20180211T040000
SUMMARY:Solo at Criterion Pub n Kitchen
DESCRIPTION:It's been a while but happy to be back at one of the friendliest pubs in town. 3-6pm
LOCATION:Criterion Pub and Kitchen\, Carrington
END:VEVENT
END:VCALENDAR