BEGIN:VCALENDAR
VERSION:2.0
PRODID:-//AudioTheme 1.6.2
BEGIN:VEVENT
UID:https://gregbryce.com.au/?post_type=audiotheme_gig&#038;p=2549
URL:https://gregbryce.com.au/shows/solo-at-belmore-maitland-2/
DTSTART;TZID=GMT:20220107T093000
SUMMARY:Solo at Belmore, Maitland
DESCRIPTION:Solo at Belmore Hotel\, Maitland from 8.30-11.30pm
LOCATION:Belmore Hotel\, Maitland
END:VEVENT
END:VCALENDAR