BEGIN:VCALENDAR
VERSION:2.0
PRODID:-//AudioTheme 1.6.2
BEGIN:VEVENT
UID:https://gregbryce.com.au/?post_type=audiotheme_gig&#038;p=1802
URL:https://gregbryce.com.au/shows/solo-at-belmont-16s-boatshed-bar/
DTSTART;TZID=GMT:20180105T093000
SUMMARY:Solo at Belmont 16s Boatshed Bar
DESCRIPTION:Great little gig here! 8.30-11.30pm
LOCATION:Belmont 16s\, Boatshed Bar
END:VEVENT
END:VCALENDAR