BEGIN:VCALENDAR
VERSION:2.0
PRODID:-//AudioTheme 1.6.2
BEGIN:VEVENT
UID:https://gregbryce.com.au/?post_type=audiotheme_gig&#038;p=3314
URL:https://gregbryce.com.au/shows/solo-at-bellbird-hotel-7/
DTSTART;TZID=GMT:20250706T030000
SUMMARY:Solo at Bellbird Hotel
DESCRIPTION:Solo at Bellbird Hotel 1-4pm
LOCATION:Bellbird Hotel
END:VEVENT
END:VCALENDAR