BEGIN:VCALENDAR
VERSION:2.0
PRODID:-//AudioTheme 1.6.2
BEGIN:VEVENT
UID:https://gregbryce.com.au/?post_type=audiotheme_gig&#038;p=1835
URL:https://gregbryce.com.au/shows/solo-at-bateau-bay-hotel/
DTSTART;TZID=GMT:20180309T060000
SUMMARY:Solo at Bateau Bay Hotel
DESCRIPTION:Solo outside on the deck from 5-8pm
LOCATION:Bateau Bay Hotel
END:VEVENT
END:VCALENDAR