BEGIN:VCALENDAR
VERSION:2.0
PRODID:-//AudioTheme 1.6.2
BEGIN:VEVENT
UID:https://gregbryce.com.au/?post_type=audiotheme_gig&#038;p=3282
URL:https://gregbryce.com.au/shows/solo-at-aberdare-hotel-weston/
DTSTART;TZID=GMT:20250622T040000
SUMMARY:Solo at Aberdare Hotel, Weston
DESCRIPTION:Solo at Aberdare Hotel\, Weston 2-5pm
LOCATION:Aberdare Hotel\, Weston
END:VEVENT
END:VCALENDAR