BEGIN:VCALENDAR
VERSION:2.0
PRODID:-//AudioTheme 1.6.2
BEGIN:VEVENT
UID:https://gregbryce.com.au/?post_type=audiotheme_gig&#038;p=2557
URL:https://gregbryce.com.au/shows/mary-ellen-solo/
DTSTART;TZID=GMT:20220318T093000
SUMMARY:Mary Ellen-solo
DESCRIPTION:Solo at the Mary Ellen.
LOCATION:Mary Ellen Hotel
END:VEVENT
END:VCALENDAR