BEGIN:VCALENDAR
VERSION:2.0
PRODID:-//AudioTheme 1.6.2
BEGIN:VEVENT
UID:https://gregbryce.com.au/?post_type=audiotheme_gig&#038;p=1961
URL:https://gregbryce.com.au/shows/hot-yogis-trio-at-wests/
DTSTART;TZID=GMT:20181006T113000
SUMMARY:Hot Yogis trio at Wests
DESCRIPTION:Hot Yogis trio at Wests\, Marble Bar\, New Lambton from 9.30pm-12.30am
LOCATION:Wests Leagues\, Marble Bar at New Lambton
END:VEVENT
END:VCALENDAR