BEGIN:VCALENDAR
VERSION:2.0
PRODID:-//AudioTheme 1.6.2
BEGIN:VEVENT
UID:https://gregbryce.com.au/?post_type=audiotheme_gig&#038;p=1507
URL:https://gregbryce.com.au/shows/hot-yogis-gig-9/
DTSTART;TZID=GMT:20161217T090000
SUMMARY:Hot Yogis gig
DESCRIPTION:Hot Yogis at my local bowlo...
LOCATION:Redhead Bowling Club
END:VEVENT
END:VCALENDAR