BEGIN:VCALENDAR
VERSION:2.0
PRODID:-//AudioTheme 1.6.2
BEGIN:VEVENT
UID:https://gregbryce.com.au/?post_type=audiotheme_gig&#038;p=1471
URL:https://gregbryce.com.au/shows/hot-yogis-gig-8/
DTSTART;TZID=GMT:20161106T030000
SUMMARY:Hot Yogis gig
DESCRIPTION:Charlie's Fun Run 4 kids...great charity fundraiser day for kids with cancer. Throw to the Wolves open at 1pm and then we play through the afternoon.  
LOCATION:Lydon Oval\, Dudley
END:VEVENT
END:VCALENDAR