BEGIN:VCALENDAR
VERSION:2.0
PRODID:-//AudioTheme 1.6.2
BEGIN:VEVENT
UID:https://gregbryce.com.au/?post_type=audiotheme_gig&#038;p=1535
URL:https://gregbryce.com.au/shows/hot-yogis-at-the-kent/
DTSTART;TZID=GMT:20170108T093000
SUMMARY:Hot Yogis at the Kent
DESCRIPTION:Hot Yogis are blues rocking and funking at the Kent late from 8.30-11.30pm
LOCATION:Kent Hotel
END:VEVENT
END:VCALENDAR