BEGIN:VCALENDAR
VERSION:2.0
PRODID:-//AudioTheme 1.6.2
BEGIN:VEVENT
UID:https://gregbryce.com.au/?post_type=audiotheme_gig&#038;p=1803
URL:https://gregbryce.com.au/shows/greg-n-robbie-at-wests-leagues-marble-bar/
DTSTART;TZID=GMT:20180106T103000
SUMMARY:Greg n Robbie at Wests Leagues Marble Bar
DESCRIPTION:A late dance gig with Robbie Long on drums 9.30pm-12.30am
LOCATION:Wests Leagues\, Marble Bar at New Lambton
END:VEVENT
END:VCALENDAR