BEGIN:VCALENDAR
VERSION:2.0
PRODID:-//AudioTheme 1.6.2
BEGIN:VEVENT
UID:https://gregbryce.com.au/?post_type=audiotheme_gig&#038;p=3322
URL:https://gregbryce.com.au/shows/greg-bryce-band-at-wangi-rsl/
DTSTART;TZID=GMT:20250727T050000
SUMMARY:Greg Bryce Band at Wangi RSL
DESCRIPTION:GB Band with Georgia Hazzard and Ric McCann at Wangi RSL 3-6pm
LOCATION:Wangi RSL
END:VEVENT
END:VCALENDAR