BEGIN:VCALENDAR
VERSION:2.0
PRODID:-//AudioTheme 1.6.2
BEGIN:VEVENT
UID:https://www.gregbryce.com.au/?post_type=audiotheme_gig&#038;p=2367
URL:https://gregbryce.com.au/shows/greg-bryce-band-at-toronto-hotel-upstairs/
DTSTART;TZID=GMT:20201113T090000
SUMMARY:Greg Bryce Band at Toronto Hotel upstairs
DESCRIPTION:GB Band upstairs at Toronto Hotel from 8-11pm
LOCATION:Toronto Hotel\, The Mulberry
END:VEVENT
END:VCALENDAR