BEGIN:VCALENDAR
VERSION:2.0
PRODID:-//AudioTheme 1.6.2
BEGIN:VEVENT
UID:https://gregbryce.com.au/?post_type=audiotheme_gig&#038;p=3023
URL:https://gregbryce.com.au/shows/greg-bryce-band-at-jewells-tavern/
DTSTART;TZID=GMT:20240406T090000
SUMMARY:Greg Bryce Band at Jewells Tavern
DESCRIPTION:Greg Bryce Band at Jewells Tavern 8-11pm
LOCATION:Jewells Tavern
END:VEVENT
END:VCALENDAR