BEGIN:VCALENDAR
VERSION:2.0
PRODID:-//AudioTheme 1.6.2
BEGIN:VEVENT
UID:https://www.gregbryce.com.au/?post_type=audiotheme_gig&#038;p=2407
URL:https://gregbryce.com.au/shows/greg-bryce-band-at-huntlee-tavern/
DTSTART;TZID=GMT:20210206T100000
SUMMARY:Greg Bryce Band at Huntlee Tavern
DESCRIPTION:Greg Bryce Band at Huntlee Tavern from 9pm-12am
LOCATION:Huntlee Tavern
END:VEVENT
END:VCALENDAR