BEGIN:VCALENDAR
VERSION:2.0
PRODID:-//AudioTheme 1.6.2
BEGIN:VEVENT
UID:https://gregbryce.com.au/?post_type=audiotheme_gig&#038;p=3389
URL:https://gregbryce.com.au/shows/greg-bryce-band-at-east-maitland-bowlo/
DTSTART;TZID=GMT:20251025T090000
SUMMARY:Greg Bryce Band at East Maitland Bowlo
DESCRIPTION:GB Band with Georgia Hazzard on bass and Ric McCann on drums at E. Maitland Bowlo 8-11:15pm
LOCATION:East Maitland Bowling Club
END:VEVENT
END:VCALENDAR