BEGIN:VCALENDAR
VERSION:2.0
PRODID:-//AudioTheme 1.6.2
BEGIN:VEVENT
UID:https://gregbryce.com.au/?post_type=audiotheme_gig&#038;p=1799
URL:https://gregbryce.com.au/shows/greg-and-robbie-at-one-mile-holiday-park/
DTSTART;TZID=GMT:20180103T070000
SUMMARY:Greg and Robbie at One Mile Holiday Park
DESCRIPTION:Technically a private function but will be happy to play a few tunes by the pool at One Mile. 6-9pm...Twisting by the pool!!!! Robbie Long on guitar and drums. Me on guitar and vocals.
LOCATION:One Mile Holiday Park
END:VEVENT
END:VCALENDAR