BEGIN:VCALENDAR
VERSION:2.0
PRODID:-//AudioTheme 1.6.2
BEGIN:VEVENT
UID:https://gregbryce.com.au/?post_type=audiotheme_gig&#038;p=2556
URL:https://gregbryce.com.au/shows/get-jiggy-duo-at-harrigans-pokolbin-2/
DTSTART;TZID=GMT:20220317T010000
SUMMARY:Get Jiggy Duo at Harrigans, Pokolbin
DESCRIPTION:St Pats Day with myself and Michael Hawke on flutes\, whistles etc...two shows 12-3pm and 4-7pm...the first show includes Irish dancers.
LOCATION:Harrigans Irish Pub\, Pokolbin
END:VEVENT
END:VCALENDAR